BEGIN:VCALENDAR
VERSION:2.0
PRODID:gruene-kalbach-riedberg.de
METHOD:PUBLISH
BEGIN:VTIMEZONE
TZID:Europe/Berlin
X-LIC-LOCATION:Europe/Berlin
BEGIN:DAYLIGHT
TZOFFSETFROM:+0100
TZOFFSETTO:+0200
TZNAME:CEST
DTSTART:19700329T020000
RRULE:FREQ=YEARLY;INTERVAL=1;BYDAY=-1SU;BYMONTH=3
END:DAYLIGHT
BEGIN:STANDARD
TZOFFSETFROM:+0200
TZOFFSETTO:+0100
TZNAME:CET
DTSTART:19701025T030000
RRULE:FREQ=YEARLY;INTERVAL=1;BYDAY=-1SU;BYMONTH=10
END:STANDARD
END:VTIMEZONE
BEGIN:VEVENT
UID:3420ee90017ef4c7b3c316452dc8cdb8@gruene-kalbach-riedberg.de

LOCATION:Walter-Möller-Platz 2
Frankfurt am Main, Deutschland
SUMMARY:Kreismitgliederversammlung
DESCRIPTION;ALTREP="data:text/html,%3Cp%3E%20%20%20%20%20%20%20%20%20%20%
 20%201.%20Formalia%3Cbr%20%2F%3E%0A%20%20%20%20%20%20%20%20%20%20%20%20%2
 0%20%20%20%20%20%20%20%20%20%20%201.1%20Beschluss%20der%20Tagesordnung%3C
 br%20%2F%3E%0A%20%20%20%20%20%20%20%20%20%20%20%20%20%20%20%20%20%20%20%2
 0%20%20%20%20%20%20%20%20%20%20%201.2%20Beschluss%20des%20Protokolls%20vo
 m%2018.03.2026%3Cbr%20%2F%3E%0A%20%20%20%20%20%20%20%20%20%20%20%202.%20B
 ericht%20der%20Sondierungskommission%3Cbr%20%2F%3E%0A%20%20%20%20%20%20%2
 0%20%20%20%20%203.%20Beschluss%20des%20Vorschlags%20der%20Sondierungskomm
 ission%3Cbr%20%2F%3E%0A%20%20%20%20%20%20%20%20%20%20%20%204.%20Antr%C3%A
 4ge%3Cbr%20%2F%3E%0A%20%20%20%20%20%20%20%20%20%20%20%205.%20Berichte%3Cb
 r%20%2F%3E%0A%20%20%20%20%20%20%20%20%20%20%20%206.%20Verschiedenes%3C%2F
 p%3E":1. Formalia\n\n                        1.1 Beschluss der Tagesordnu
 ng\n\n                               1.2 Beschluss des Protokolls vom 18.
 03.2026\n\n            2. Bericht der Sondierungskommission\n\n          
   3. Beschluss des Vorschlags der Sondierungskommission\n\n            4.
  Anträge\n\n            5. Berichte\n\n            6. Verschiedenes
CLASS:PUBLIC
DTSTART;TZID=Europe/Berlin:20260429T183000
DTEND;TZID=Europe/Berlin:20260429T210000
DTSTAMP:20260424T135454
END:VEVENT
END:VCALENDAR